BEGIN:VCALENDAR
VERSION:2.0
PRODID:-//ChamberMaster//Event Calendar 2.0//EN
METHOD:PUBLISH
X-PUBLISHED-TTL:P3D
REFRESH-INTERVAL:P3D
CALSCALE:GREGORIAN
BEGIN:VEVENT
DTSTART:20211006T220000Z
DTEND:20211007T000000Z
X-MICROSOFT-CDO-ALLDAYEVENT:FALSE
SUMMARY:Setting S.M.A.R.T. Goals is Smart Goal Setting
DESCRIPTION:People who have goals are 10x more successful than those without\, and people with written goals are 3x more successful on top of that! Boost business results by educating your staff about goal setting and achievement. Missing the mark on goals can be costly in time\, money\, energy and trust. Many goals fail to be reached due to lack of planning\, or the ability to break down complex ideas into manageable tasks. A simple\, yet effective\, approach to goal making (and reaching) strategy is to use the SMART approach\, which helps organize ideas\, and implement action plans and tasks without complicated theories or models.
X-ALT-DESC;FMTTYPE=text/html:People who have goals are 10x more successful than those without\, and people with written goals are 3x more successful on top of that! Boost business results by educating your staff about goal setting and achievement. Missing the mark on goals can be costly in time\, money\, energy and trust. Many goals fail to be reached due to lack of planning\, or the ability to break down complex ideas into manageable tasks. A simple\, yet effective\, approach to goal making (and reaching) strategy is to use the SMART approach\, which helps organize ideas\, and implement action plans and tasks without complicated theories or models.
LOCATION:Live Zoom
UID:e.2066.4132
SEQUENCE:3
DTSTAMP:20260423T065450Z
URL:https://dev.chainolakeschamber.com/events/details/setting-s-m-a-r-t-goals-is-smart-goal-setting-4132
END:VEVENT

END:VCALENDAR
