BEGIN:VCALENDAR
VERSION:2.0
PRODID:-//ChamberMaster//Event Calendar 2.0//EN
METHOD:PUBLISH
X-PUBLISHED-TTL:P3D
REFRESH-INTERVAL:P3D
CALSCALE:GREGORIAN
BEGIN:VEVENT
DTSTART:20210525T140000Z
DTEND:20210525T160000Z
X-MICROSOFT-CDO-ALLDAYEVENT:FALSE
SUMMARY:Setting S.M.A.R.T. Goals
DESCRIPTION:SMART goals are Specific\, Measurable\, Attainable\, Realistic\, and Timely Missing the mark on a goal or objective can be frustrating\, wasteful\, or downright disastrous. As simple as it may seem\, many still struggle to organize ideas\, priorities and resources to meet a goal and get the job done. This course provides an overview and action plan of the SMART goal technique\, and how it can be applied in a variety of situations\, both professional and personal.
X-ALT-DESC;FMTTYPE=text/html:SMART goals are Specific\, Measurable\, Attainable\, Realistic\, and Timely Missing the mark on a goal or objective can be frustrating\, wasteful\, or downright disastrous. As simple as it may seem\, many still struggle to organize ideas\, priorities and resources to meet a goal and get the job done. This course provides an overview and action plan of the SMART goal technique\, and how it can be applied in a variety of situations\, both professional and personal.
LOCATION:Live Zoom
UID:e.2066.3952
SEQUENCE:3
DTSTAMP:20260423T160043Z
URL:https://dev.chainolakeschamber.com/events/details/setting-s-m-a-r-t-goals-3952
END:VEVENT

END:VCALENDAR
