BEGIN:VCALENDAR
VERSION:2.0
PRODID:-//ChamberMaster//Event Calendar 2.0//EN
METHOD:PUBLISH
X-PUBLISHED-TTL:P3D
REFRESH-INTERVAL:P3D
CALSCALE:GREGORIAN
BEGIN:VEVENT
DTSTART:20210723T220000Z
DTEND:20210724T000000Z
X-MICROSOFT-CDO-ALLDAYEVENT:FALSE
SUMMARY:Sensitivity Training
DESCRIPTION:Sensitivity training is critical for creating an inclusive and positive workplace. Gain understanding on the importance of building a work culture focused on empathy\, respect and working together towards a common goal.
X-ALT-DESC;FMTTYPE=text/html:Sensitivity training is critical for creating an inclusive and positive workplace. Gain understanding on the importance of building a work culture focused on empathy\, respect and working together towards a common goal.
LOCATION:Live Zoom
UID:e.2066.4078
SEQUENCE:3
DTSTAMP:20260423T111511Z
URL:https://dev.chainolakeschamber.com/events/details/sensitivity-training-4078
END:VEVENT

END:VCALENDAR
