BEGIN:VCALENDAR
VERSION:2.0
PRODID:-//ChamberMaster//Event Calendar 2.0//EN
METHOD:PUBLISH
X-PUBLISHED-TTL:P3D
REFRESH-INTERVAL:P3D
CALSCALE:GREGORIAN
BEGIN:VEVENT
DTSTART:20221020T150000Z
DTEND:20221020T170000Z
X-MICROSOFT-CDO-ALLDAYEVENT:FALSE
SUMMARY:Senior Resource Fair
DESCRIPTION:This event will provide information about area community programs and educational opportunities for senior adults.\n\n\n\nMedicare 101 Informational Program at 11:00am
X-ALT-DESC;FMTTYPE=text/html:This event will provide information about area community programs and educational opportunities for senior adults.<br />\n<br />\nMedicare 101 Informational Program at 11:00am
LOCATION:Lakefront Park Building 71 Nippersink Blvd. Fox Lake IL 60020
UID:e.2066.4641
SEQUENCE:3
DTSTAMP:20260422T104635Z
URL:https://dev.chainolakeschamber.com/events/details/senior-resource-fair-4641
END:VEVENT

END:VCALENDAR
