BEGIN:VCALENDAR
VERSION:2.0
PRODID:-//ChamberMaster//Event Calendar 2.0//EN
METHOD:PUBLISH
X-PUBLISHED-TTL:P3D
REFRESH-INTERVAL:P3D
CALSCALE:GREGORIAN
BEGIN:VEVENT
DTSTART;VALUE=DATE:20230127
DTEND;VALUE=DATE:20230128
TRANSP:TRANSPARENT
X-MICROSOFT-CDO-ALLDAYEVENT:TRUE
SUMMARY:Senator Wilcox Valentine's for Seniors
DESCRIPTION:Valentines for Seniors Card Drive\n\nJanuary 12 - Feb 7\, 2023
X-ALT-DESC;FMTTYPE=text/html:Valentines for Seniors Card Drive<br />\nJanuary 12 - Feb 7\, 2023
LOCATION:Drop off or mail cards to: Senator Craig Wilcox's Office 5400 W. Elm Street Suite 103 McHenry IL 60050 See flyer for more details
UID:e.2066.4959
SEQUENCE:3
DTSTAMP:20260420T021544Z
URL:https://dev.chainolakeschamber.com/events/details/senator-wilcox-valentine-s-for-seniors-4959
END:VEVENT

END:VCALENDAR
