BEGIN:VCALENDAR
VERSION:2.0
PRODID:-//ChamberMaster//Event Calendar 2.0//EN
METHOD:PUBLISH
X-PUBLISHED-TTL:P3D
REFRESH-INTERVAL:P3D
CALSCALE:GREGORIAN
BEGIN:VEVENT
DTSTART:20230728T220000Z
DTEND:20230729T000000Z
X-MICROSOFT-CDO-ALLDAYEVENT:FALSE
SUMMARY:Second Amendment Sports Tent Event - Member Night!
DESCRIPTION:A new addition to our Tent Event weekend is the Members Early Access Night! All of our members are welcome to come Friday night for food and drinks and to take advantage of all the Tent Event deals before the general public does Saturday morning. Not a member? No worries\, we can have multiple options including a trial membership for you to try out!
X-ALT-DESC;FMTTYPE=text/html:<span style="color: rgb(5\, 5\, 5)\; font-family: &quot\;Segoe UI Historic&quot\;\, &quot\;Segoe UI&quot\;\, Helvetica\, Arial\, sans-serif\; font-size: 15px\;">A new addition to our Tent Event weekend is the Members Early Access Night! All of our members are welcome to come Friday night for food and drinks and to take advantage of all the Tent Event deals before the general public does Saturday morning. Not a member? No worries\, we can have multiple options including a trial membership for you to try out!</span>
LOCATION:Second Amendment Sports 3705 W. Elm Street McHenry IL 60050
UID:e.2066.5303
SEQUENCE:3
DTSTAMP:20260419T153400Z
URL:https://dev.chainolakeschamber.com/events/details/second-amendment-sports-tent-event-member-night-5303
END:VEVENT

END:VCALENDAR
