BEGIN:VCALENDAR
VERSION:2.0
PRODID:-//ChamberMaster//Event Calendar 2.0//EN
METHOD:PUBLISH
X-PUBLISHED-TTL:P3D
REFRESH-INTERVAL:P3D
CALSCALE:GREGORIAN
BEGIN:VEVENT
DTSTART:20230228T010000Z
DTEND:20230228T040000Z
X-MICROSOFT-CDO-ALLDAYEVENT:FALSE
SUMMARY:Saylor Mick's Paint Your Pet
DESCRIPTION:Join us at Saylor Mick's Pizza & Pub in Spring Grove to paint your pet!  SIP Parties is a unique twist on your typical SIP & Paint party experience! Enjoy a lively performance that brings humor and audience interaction to detailed art instruction.  Whether you're looking to do a girls night out or enjoy a date night with the hubby\, this is a fun\, local activity.
X-ALT-DESC;FMTTYPE=text/html:<span style="color: rgb(68\, 68\, 68)\; font-family: Verdana\, sans-serif\; font-size: 15px\;">Join us at Saylor Mick&rsquo\;s Pizza &amp\; Pub in Spring Grove to paint your pet!&nbsp\; SIP Parties is a unique twist on your typical SIP &amp\; Paint party experience! Enjoy a lively performance that brings humor and audience interaction to detailed art instruction.&nbsp\; Whether you&rsquo\;re looking to do a girls night out or enjoy a date night with the hubby\, this is a fun\, local activity.</span>
LOCATION:Saylor Mick's Pizza & Pub 2020 US 12 Spring Grove\, IL
UID:e.2066.4970
SEQUENCE:3
DTSTAMP:20260419T223022Z
URL:https://dev.chainolakeschamber.com/events/details/saylor-mick-s-paint-your-pet-4970
END:VEVENT

END:VCALENDAR
