BEGIN:VCALENDAR
VERSION:2.0
PRODID:-//ChamberMaster//Event Calendar 2.0//EN
METHOD:PUBLISH
X-PUBLISHED-TTL:P3D
REFRESH-INTERVAL:P3D
CALSCALE:GREGORIAN
BEGIN:VEVENT
DTSTART:20230604T190000Z
DTEND:20230604T220000Z
X-MICROSOFT-CDO-ALLDAYEVENT:FALSE
SUMMARY:SAVE-A-PET Top Golf Fundraiser
DESCRIPTION:Come and join a fun-filled golfing experience at Topgolf in Schaumburg IL.
X-ALT-DESC;FMTTYPE=text/html:Come and join a fun-filled golfing experience at Topgolf in Schaumburg IL.
LOCATION:Top Golf 2050 Progress Pkwy Schaumburg\, IL 60173
UID:e.2066.4967
SEQUENCE:3
DTSTAMP:20260419T154950Z
URL:https://dev.chainolakeschamber.com/events/details/save-a-pet-top-golf-fundraiser-4967
END:VEVENT

END:VCALENDAR
