BEGIN:VCALENDAR
VERSION:2.0
PRODID:-//ChamberMaster//Event Calendar 2.0//EN
METHOD:PUBLISH
X-PUBLISHED-TTL:P3D
REFRESH-INTERVAL:P3D
CALSCALE:GREGORIAN
BEGIN:VEVENT
DTSTART:20221103T230000Z
DTEND:20221104T020000Z
X-MICROSOFT-CDO-ALLDAYEVENT:FALSE
SUMMARY:Save-A-Pet's 50th Anniversary Top Golf Fundraiser
DESCRIPTION:Come and join Save-A-Pet for a fun-filled evening! \n\n\n\n100% of the proceeds of this year's event will go to supporting\n\nSave-A-Pet animals!\n\n\n\nThis event will include three hours of game time\, a dinner buffet\, beer/wine\, special contests\, a silent auction and raffle prizes.\n\n\n\nEmail development.manager@saveapetil.org for more details!
X-ALT-DESC;FMTTYPE=text/html:Come and join Save-A-Pet for a fun-filled evening!&nbsp\;<br />\n<br />\n<span style="font-size:14px\;"><strong style="box-sizing: border-box\; margin: 0px\; padding: 0px\; border: 0px\; font-variant-numeric: inherit\; font-variant-east-asian: inherit\; font-stretch: inherit\; font-size: 14px\; line-height: inherit\; font-family: Arial\; vertical-align: baseline\; color: rgb(68\, 68\, 68)\; text-align: center\; background-color: rgb(255\, 255\, 255)\;"><span style="box-sizing: border-box\; margin: 0px\; padding: 0px\; border: 0px\; font-style: inherit\; font-variant: inherit\; font-weight: inherit\; font-stretch: inherit\; line-height: inherit\; font-family: inherit\; vertical-align: baseline\;">100% of the proceeds of this year&#39\;s event will go to supporting<br style="box-sizing: border-box\;" />\nSave-A-Pet animals!</span></strong><br />\n<br />\nThis event will include three hours of game time\, a dinner buffet\,</span> beer/wine\, special contests\, a silent auction and raffle prizes.<br />\n<br />\nEmail development.manager@saveapetil.org for more details!
LOCATION:Topgolf 2050 Progress Pkwy Schaumburg\, IL 60196
UID:e.2066.4577
SEQUENCE:3
DTSTAMP:20260422T092818Z
URL:https://dev.chainolakeschamber.com/events/details/save-a-pet-s-50th-anniversary-top-golf-fundraiser-4577
END:VEVENT

END:VCALENDAR
