BEGIN:VCALENDAR
VERSION:2.0
PRODID:-//ChamberMaster//Event Calendar 2.0//EN
METHOD:PUBLISH
X-PUBLISHED-TTL:P3D
REFRESH-INTERVAL:P3D
CALSCALE:GREGORIAN
BEGIN:VEVENT
DTSTART:20211016T140000Z
DTEND:20211017T033000Z
X-MICROSOFT-CDO-ALLDAYEVENT:FALSE
SUMMARY:Save A Pet Fun Walk
DESCRIPTION:All registered participants will receive a goody bag with some very special gifts\n\n \n\nThis is a family fun event and well-behaved dogs on leashes are welcome.
X-ALT-DESC;FMTTYPE=text/html:<p style="box-sizing: border-box\; margin: 0pt 0px 0pt 0in\; padding: 0px\; border: 0px\; font-variant-numeric: inherit\; font-variant-east-asian: inherit\; font-stretch: inherit\; font-size: 14px\; line-height: inherit\; font-family: Arial\, Verdana\, Helvetica\, sans-serif\; vertical-align: baseline\; color: rgb(68\, 68\, 68)\; text-align: center\;"><span style="box-sizing: border-box\; margin: 0px\; padding: 0px\; border: 0px\; font-style: inherit\; font-variant: inherit\; font-weight: inherit\; font-stretch: inherit\; font-size: 24px\; line-height: inherit\; font-family: Calibri\; vertical-align: baseline\; color: rgb(102\, 51\, 0)\;">All registered participants&nbsp\;will receive a goody bag with some very special gifts</span><br style="box-sizing: border-box\;" />\n&nbsp\;</p>\n\n<p style="box-sizing: border-box\; margin: 0pt 0px 0pt 0in\; padding: 0px\; border: 0px\; font-variant-numeric: inherit\; font-variant-east-asian: inherit\; font-stretch: inherit\; font-size: 14px\; line-height: inherit\; font-family: Arial\, Verdana\, Helvetica\, sans-serif\; vertical-align: baseline\; color: rgb(68\, 68\, 68)\; text-align: center\;"><span style="box-sizing: border-box\; margin: 0px\; padding: 0px\; border: 0px\; font-style: inherit\; font-variant: inherit\; font-weight: inherit\; font-stretch: inherit\; font-size: x-large\; line-height: inherit\; font-family: Arial\; vertical-align: baseline\;">This is a family fun event and well-behaved dogs on leashes are welcome.</span></p>\n
LOCATION:Central Park(Outside the Aquatic Center) 250 Library Lane Grayslake
UID:e.2066.4156
SEQUENCE:3
DTSTAMP:20260423T065205Z
URL:https://dev.chainolakeschamber.com/events/details/save-a-pet-fun-walk-4156
END:VEVENT

END:VCALENDAR
