BEGIN:VCALENDAR
VERSION:2.0
PRODID:-//ChamberMaster//Event Calendar 2.0//EN
METHOD:PUBLISH
X-PUBLISHED-TTL:P3D
REFRESH-INTERVAL:P3D
CALSCALE:GREGORIAN
BEGIN:VEVENT
DTSTART:20210816T170000Z
DTEND:20210816T170000Z
X-MICROSOFT-CDO-ALLDAYEVENT:FALSE
SUMMARY:Save-A-Pet Fall Mum Sale!
DESCRIPTION:Starting now through 9:00 a.m. on August 16\, we are taking orders for beautiful mums in a variety of colors. All of the proceeds from this sale will go toward providing for the daily care of the dogs and cats at Save-A-Pet\, until they find their\n\nforever\, loving home. \n\nThe mums are available in yellow\, red\, purple/lavender\, orange/bronze\, and white. Each color is sold separately\n\nand come in 9" pots. If you ordered these last year\, you know they are HUGE and quite impressive!\n\nThe mums can be picked up at Save-A-Pet\, located at 31664 N. Fairfield Rd\, Grayslake\, IL 60030\, on Saturday\, Sept. 25\, 2021 from 9:30 a.m. through noon. You will receive a reminder email as we get closer to that date. This is a contact-less pick-up. Volunteers will place the mums inside of the trunk\n\nof your car when you arrive. \n\nMums must be pre-ordered and paid for at the time of ordering. There will be no on-site sales. Mum orders must be picked up during the designated date/time as we are unable to hold them.
X-ALT-DESC;FMTTYPE=text/html:<p style="box-sizing: border-box\; margin: 0px 0px 10px\; padding: 0px\; border: 0px\; font-style: normal\; font-variant-ligatures: normal\; font-variant-caps: normal\; font-variant-numeric: inherit\; font-variant-east-asian: inherit\; font-weight: 400\; font-stretch: inherit\; font-size: 14px\; line-height: inherit\; font-family: Arial\, Verdana\, Helvetica\, sans-serif\; vertical-align: baseline\; color: rgb(68\, 68\, 68)\; letter-spacing: normal\; orphans: 2\; text-indent: 0px\; text-transform: none\; white-space: normal\; widows: 2\; word-spacing: 0px\; -webkit-text-stroke-width: 0px\; background-color: rgb(255\, 255\, 255)\; text-decoration-thickness: initial\; text-decoration-style: initial\; text-decoration-color: initial\; text-align: center\;"><span style="box-sizing: border-box\; margin: 0px\; padding: 0px\; border: 0px\; font-style: inherit\; font-variant: inherit\; font-weight: inherit\; font-stretch: inherit\; font-size: 16px\; line-height: inherit\; font-family: Arial\; vertical-align: baseline\; color: rgb(0\, 0\, 0)\;">Starting now through 9:00 a.m. on August 16\, we are taking orders for beautiful mums in a variety of colors. All of the proceeds from this sale will go toward providing for the daily care of the dogs and cats at Save-A-Pet\, until they find their<br style="box-sizing: border-box\;" />\nforever\, loving home.&nbsp\;</span></p>\n\n<p style="box-sizing: border-box\; margin: 0px 0px 10px\; padding: 0px\; border: 0px\; font-style: normal\; font-variant-ligatures: normal\; font-variant-caps: normal\; font-variant-numeric: inherit\; font-variant-east-asian: inherit\; font-weight: 400\; font-stretch: inherit\; font-size: 14px\; line-height: inherit\; font-family: Arial\, Verdana\, Helvetica\, sans-serif\; vertical-align: baseline\; color: rgb(68\, 68\, 68)\; letter-spacing: normal\; orphans: 2\; text-indent: 0px\; text-transform: none\; white-space: normal\; widows: 2\; word-spacing: 0px\; -webkit-text-stroke-width: 0px\; background-color: rgb(255\, 255\, 255)\; text-decoration-thickness: initial\; text-decoration-style: initial\; text-decoration-color: initial\; text-align: center\;"><span style="box-sizing: border-box\; margin: 0px\; padding: 0px\; border: 0px\; font-style: inherit\; font-variant: inherit\; font-weight: inherit\; font-stretch: inherit\; font-size: 16px\; line-height: inherit\; font-family: Arial\; vertical-align: baseline\; color: rgb(0\, 0\, 0)\;">The mums are available in yellow\, red\, purple/lavender\, orange/bronze\, and white. Each color is sold separately</span><br style="box-sizing: border-box\;" />\n<span style="box-sizing: border-box\; margin: 0px\; padding: 0px\; border: 0px\; font-style: inherit\; font-variant: inherit\; font-weight: inherit\; font-stretch: inherit\; font-size: medium\; line-height: inherit\; font-family: Arial\; vertical-align: baseline\; color: rgb(0\, 0\, 0)\;">and come in 9&quot\; pots.&nbsp\;If you ordered these last year\, you know they are HUGE and quite impressive!</span></p>\n\n<p style="box-sizing: border-box\; margin: 0px 0px 10px\; padding: 0px\; border: 0px\; font-style: normal\; font-variant-ligatures: normal\; font-variant-caps: normal\; font-variant-numeric: inherit\; font-variant-east-asian: inherit\; font-weight: 400\; font-stretch: inherit\; font-size: 14px\; line-height: inherit\; font-family: Arial\, Verdana\, Helvetica\, sans-serif\; vertical-align: baseline\; color: rgb(68\, 68\, 68)\; letter-spacing: normal\; orphans: 2\; text-indent: 0px\; text-transform: none\; white-space: normal\; widows: 2\; word-spacing: 0px\; -webkit-text-stroke-width: 0px\; background-color: rgb(255\, 255\, 255)\; text-decoration-thickness: initial\; text-decoration-style: initial\; text-decoration-color: initial\; text-align: center\;"><span style="box-sizing: border-box\; margin: 0px\; padding: 0px\; border: 0px\; font-style: inherit\; font-variant: inherit\; font-weight: inherit\; font-stretch: inherit\; font-size: 16px\; line-height: inherit\; font-family: Arial\; vertical-align: baseline\; color: rgb(0\, 0\, 0)\;">The mums can be picked up at Save-A-Pet\, located at 31664 N. Fairfield Rd\, Grayslake\, IL 60030\, on Saturday\, Sept. 25\, 2021 from 9:30 a.m. through noon. You will receive&nbsp\;a reminder email as we get closer to that date. This is a contact-less&nbsp\;pick-up. Volunteers will place the mums inside of the trunk<br style="box-sizing: border-box\;" />\nof your car when you arrive.&nbsp\;</span></p>\n\n<p style="box-sizing: border-box\; margin: 0px 0px 10px\; padding: 0px\; border: 0px\; font-style: normal\; font-variant-ligatures: normal\; font-variant-caps: normal\; font-variant-numeric: inherit\; font-variant-east-asian: inherit\; font-weight: 400\; font-stretch: inherit\; font-size: 14px\; line-height: inherit\; font-family: Arial\, Verdana\, Helvetica\, sans-serif\; vertical-align: baseline\; color: rgb(68\, 68\, 68)\; letter-spacing: normal\; orphans: 2\; text-indent: 0px\; text-transform: none\; white-space: normal\; widows: 2\; word-spacing: 0px\; -webkit-text-stroke-width: 0px\; background-color: rgb(255\, 255\, 255)\; text-decoration-thickness: initial\; text-decoration-style: initial\; text-decoration-color: initial\; text-align: center\;"><span style="box-sizing: border-box\; margin: 0px\; padding: 0px\; border: 0px\; font-style: inherit\; font-variant: inherit\; font-weight: inherit\; font-stretch: inherit\; font-size: 16px\; line-height: inherit\; font-family: Arial\; vertical-align: baseline\; color: rgb(0\, 0\, 0)\;">Mums must be pre-ordered and paid for at the time of ordering. There will be no on-site sales.<span style="box-sizing: border-box\; margin: 0px\; padding: 0px\; border: 0px\; font: inherit\; vertical-align: baseline\; color: rgb(0\, 0\, 0)\;">&nbsp\;Mum orders must be picked up during the designated date/time as we are unable to hold them. </span></span></p>\n
LOCATION:PICK UP Save A Pet 31664 N Fairfield Rd Grayslake\, IL
UID:e.2066.4114
SEQUENCE:3
DTSTAMP:20260423T100052Z
URL:https://dev.chainolakeschamber.com/events/details/save-a-pet-fall-mum-sale-4114
END:VEVENT

END:VCALENDAR
