BEGIN:VCALENDAR
VERSION:2.0
PRODID:-//ChamberMaster//Event Calendar 2.0//EN
METHOD:PUBLISH
X-PUBLISHED-TTL:P3D
REFRESH-INTERVAL:P3D
CALSCALE:GREGORIAN
BEGIN:VEVENT
DTSTART:20230521T040000Z
DTEND:20230520T190000Z
X-MICROSOFT-CDO-ALLDAYEVENT:FALSE
SUMMARY:SAVE-A-PET Day at Ray Auto Group
DESCRIPTION:It's Save-A-Pet Day at Ray Chevrolet and Ray Chrysler\, Jeep\, Doge and Ram!\n\n\n\nHelp us raise $10\,000 and Ray will match $5\,000!\n\n	Rock out with WXLC-FM\n	Live Dogs and Cats\n	Tons of Giveaways\n	Save-A-Pet Merch for sale!\n	Pixie Dawgs Food Truck on site!
X-ALT-DESC;FMTTYPE=text/html:It&#39\;s Save-A-Pet Day at Ray Chevrolet and Ray Chrysler\, Jeep\, Doge and Ram!<br />\n<br />\nHelp us raise $10\,000 and Ray will match $5\,000!\n<ul>\n	<li>Rock out with WXLC-FM</li>\n	<li>Live Dogs and Cats</li>\n	<li>Tons of Giveaways</li>\n	<li>Save-A-Pet Merch for sale!</li>\n	<li>Pixie Dawgs Food Truck on site!</li>\n</ul>\n
LOCATION:Ray Auto Group 39 U.S. 12 Fox Lake\, IL
UID:e.2066.4966
SEQUENCE:3
DTSTAMP:20260419T172124Z
URL:https://dev.chainolakeschamber.com/events/details/save-a-pet-day-at-ray-auto-group-4966
END:VEVENT

END:VCALENDAR
