BEGIN:VCALENDAR
VERSION:2.0
PRODID:-//ChamberMaster//Event Calendar 2.0//EN
METHOD:PUBLISH
X-PUBLISHED-TTL:P3D
REFRESH-INTERVAL:P3D
CALSCALE:GREGORIAN
BEGIN:VEVENT
DTSTART:20230325T190000Z
DTEND:20230325T220000Z
X-MICROSOFT-CDO-ALLDAYEVENT:FALSE
SUMMARY:SAVE-A-PET 60s & 70s Live Concert Fundraising Event
DESCRIPTION:Join us for a LIVE 60s and 70s Concert and Fundraising Event!\n\n\n\nBackdated Band Featuring Jay Goeppner.\n\nAll proceeds go to Save-A-Pet\n\nIncluded: Raffle prizes\, 50/50 draw\, and two drink tickets per person.
X-ALT-DESC;FMTTYPE=text/html:Join us for a LIVE 60s and 70s Concert and Fundraising Event!<br />\n<br />\nBackdated Band Featuring Jay Goeppner.<br />\nAll proceeds go to Save-A-Pet<br />\nIncluded: Raffle prizes\, 50/50 draw\, and two drink tickets per person.
LOCATION:Home Kitchen & Lounge 1227 N. kRand Rd. Arlington Heights\, IL 60041
UID:e.2066.4956
SEQUENCE:3
DTSTAMP:20260419T223301Z
URL:https://dev.chainolakeschamber.com/events/details/save-a-pet-60s-70s-live-concert-fundraising-event-4956
END:VEVENT

END:VCALENDAR
