BEGIN:VCALENDAR
VERSION:2.0
PRODID:-//ChamberMaster//Event Calendar 2.0//EN
METHOD:PUBLISH
X-PUBLISHED-TTL:P3D
REFRESH-INTERVAL:P3D
CALSCALE:GREGORIAN
BEGIN:VEVENT
DTSTART:20230812T190000Z
DTEND:20230812T210000Z
X-MICROSOFT-CDO-ALLDAYEVENT:FALSE
SUMMARY:Sauce N Toss Fox Lake Grand Opening!
DESCRIPTION:Join us to celebrate the Grand Opening of Sauce N Toss Fox Lake with a ribbon cutting and mixer!\n\nGet spicey with special games and discounts on many food items!\n\nThis is a free event\, but please RSVP so we have enough for all!
X-ALT-DESC;FMTTYPE=text/html:Join us to celebrate the Grand Opening of Sauce N Toss Fox Lake with a ribbon cutting and mixer!<br />\nGet spicey with special games and discounts on many food items!<br />\nThis is a free event\, but please RSVP so we have enough for all!
LOCATION:Sauce N Toss 1 Nippersink Road Fox Lake IL 60020
UID:e.2066.5359
SEQUENCE:3
DTSTAMP:20260419T135542Z
URL:https://dev.chainolakeschamber.com/events/details/sauce-n-toss-fox-lake-grand-opening-5359
END:VEVENT

END:VCALENDAR
