BEGIN:VCALENDAR
VERSION:2.0
PRODID:-//ChamberMaster//Event Calendar 2.0//EN
METHOD:PUBLISH
X-PUBLISHED-TTL:P3D
REFRESH-INTERVAL:P3D
CALSCALE:GREGORIAN
BEGIN:VEVENT
DTSTART:20221126T160000Z
DTEND:20221126T220000Z
X-MICROSOFT-CDO-ALLDAYEVENT:FALSE
SUMMARY:Saturday Super Sale at Three Little Birds
DESCRIPTION:Thankful Saturday Super Sale at Three Little Birds\n\nStorewide Event\n\n10% to 75% OFF!\n\n\n\nCome on in\, grab a snack\, shop over 40 small businesses in one location!
X-ALT-DESC;FMTTYPE=text/html:Thankful Saturday Super Sale at Three Little Birds<br />\nStorewide Event<br />\n10% to 75% OFF!<br />\n<br />\nCome on in\, grab a snack\, shop over 40 small businesses in one location!
LOCATION:2020 Rt 12\, Unit Q Spring Grove\, IL 60081
UID:e.2066.4894
SEQUENCE:3
DTSTAMP:20260422T130155Z
URL:https://dev.chainolakeschamber.com/events/details/saturday-super-sale-at-three-little-birds-4894
END:VEVENT

END:VCALENDAR
