BEGIN:VCALENDAR
VERSION:2.0
PRODID:-//ChamberMaster//Event Calendar 2.0//EN
METHOD:PUBLISH
X-PUBLISHED-TTL:P3D
REFRESH-INTERVAL:P3D
CALSCALE:GREGORIAN
BEGIN:VEVENT
DTSTART:20221110T230000Z
DTEND:20221111T010000Z
X-MICROSOFT-CDO-ALLDAYEVENT:FALSE
SUMMARY:Salvation Army's Red Kettle & Angel Tree Kick-Off and Multi-Chamber Mixer
DESCRIPTION:Multi-Chamber Mixer to kick off the holiday season with the Salvation Army in Crystal Lake! Let's work together to make this holiday special for all!
X-ALT-DESC;FMTTYPE=text/html:Multi-Chamber Mixer to kick off the holiday season with the Salvation Army in Crystal Lake! Let&#39\;s work together to make this holiday special for all!
LOCATION:Salvation Army\, 290 W. Crystal Lake Ave.\, Crystal Lake\, IL
UID:e.2066.4634
SEQUENCE:3
DTSTAMP:20260422T093134Z
URL:https://dev.chainolakeschamber.com/events/details/salvation-army-s-red-kettle-angel-tree-kick-off-and-multi-chamber-mixer-4634
END:VEVENT

END:VCALENDAR
