BEGIN:VCALENDAR
VERSION:2.0
PRODID:-//ChamberMaster//Event Calendar 2.0//EN
METHOD:PUBLISH
X-PUBLISHED-TTL:P3D
REFRESH-INTERVAL:P3D
CALSCALE:GREGORIAN
BEGIN:VEVENT
DTSTART:20230523T140000Z
DTEND:20230523T150000Z
X-MICROSOFT-CDO-ALLDAYEVENT:FALSE
SUMMARY:Sales Tax Requirements for Small Business
DESCRIPTION:Illinois Department of Revenue Sales Tax Requirements for Small Business\, including calculating\, collecting\, reporting\, and paying sales tax online. We will also discuss taxable goods\, sales tax exemptions\, figuring sales tax rates and amounts due. We will address the when\, how\, and why\, to register with the Illinois Department of Revenue for a sales tax account.
X-ALT-DESC;FMTTYPE=text/html:Illinois Department of Revenue Sales Tax Requirements for Small Business\, including calculating\, collecting\, reporting\, and paying sales tax online. We will also discuss taxable goods\, sales tax exemptions\, figuring sales tax rates and amounts due. We will address the when\, how\, and why\, to register with the Illinois Department of Revenue for a sales tax account.
LOCATION:Live Zoom
UID:e.2066.5061
SEQUENCE:3
DTSTAMP:20260419T172342Z
URL:https://dev.chainolakeschamber.com/events/details/sales-tax-requirements-for-small-business-5061
END:VEVENT

END:VCALENDAR
