BEGIN:VCALENDAR
VERSION:2.0
PRODID:-//ChamberMaster//Event Calendar 2.0//EN
METHOD:PUBLISH
X-PUBLISHED-TTL:P3D
REFRESH-INTERVAL:P3D
CALSCALE:GREGORIAN
BEGIN:VEVENT
DTSTART:20230816T140000Z
DTEND:20230816T150000Z
X-MICROSOFT-CDO-ALLDAYEVENT:FALSE
SUMMARY:Sales Tax Requirements for Small Business
DESCRIPTION:Illinois Department of Revenue Sales Tax Requirements for Small Business\, including calculating\, collecting\, reporting\, and paying sales tax online. Will also discuss taxable goods\, sales tax exemptions\, and figuring sales tax rates and amounts due.
X-ALT-DESC;FMTTYPE=text/html:Illinois Department of Revenue Sales Tax Requirements for Small Business\, including calculating\, collecting\, reporting\, and paying sales tax online. Will also discuss taxable goods\, sales tax exemptions\, and figuring sales tax rates and amounts due.
LOCATION:Live Zoom
UID:e.2066.5339
SEQUENCE:3
DTSTAMP:20260419T122103Z
URL:https://dev.chainolakeschamber.com/events/details/sales-tax-requirements-for-small-business-08-16-2023-5339
END:VEVENT

END:VCALENDAR
