BEGIN:VCALENDAR
VERSION:2.0
PRODID:-//ChamberMaster//Event Calendar 2.0//EN
METHOD:PUBLISH
X-PUBLISHED-TTL:P3D
REFRESH-INTERVAL:P3D
CALSCALE:GREGORIAN
BEGIN:VEVENT
DTSTART:20200331T230000Z
DTEND:20200401T003000Z
X-MICROSOFT-CDO-ALLDAYEVENT:FALSE
SUMMARY:Sales Success
DESCRIPTION:Your ability to generate sales and profits is the key to your success. Most businesses and sales people use only one or two profit making strategies. In this workshop\, you will learn step-by-step plans\, strategies\, methods and techniques to build a more profitable book of business - resulting in positioning yourself as the first-choice product or service provider.
X-ALT-DESC;FMTTYPE=text/html:Your ability to generate sales and profits is the key to your success. Most businesses and sales people use only one or two profit making strategies. In this workshop\, you will learn step-by-step plans\, strategies\, methods and techniques to build a more profitable book of business - resulting in positioning yourself as the first-choice product or service provider.
LOCATION:College of Lake County Grayslake Campus 19351 W Washington St. Grayslake\, IL 60030
UID:e.2066.3163
SEQUENCE:3
DTSTAMP:20260424T142331Z
URL:https://dev.chainolakeschamber.com/events/details/sales-success-3163
END:VEVENT

END:VCALENDAR
