BEGIN:VCALENDAR
VERSION:2.0
PRODID:-//ChamberMaster//Event Calendar 2.0//EN
METHOD:PUBLISH
X-PUBLISHED-TTL:P3D
REFRESH-INTERVAL:P3D
CALSCALE:GREGORIAN
BEGIN:VEVENT
DTSTART:20200316T131500Z
DTEND:20200316T144500Z
X-MICROSOFT-CDO-ALLDAYEVENT:FALSE
SUMMARY:Saint Bede School Parent and Tot Program
DESCRIPTION:This will be a good opportunity for you and your child to socialize\, have some fun and join in a variety of activities. \n\n\n	Each class will have a theme. \n	The children can get acquainted with the school environment.\n	The children will be introduced to routine\, following directions\, learning patience and improving listening skills.\n	We will have story times with corresponding craft activities.\n	There will be time for music\, songs\, movement and free play.\n\nSaint Bede School's Parent and Tot Program is a great way to introduce our little ones to many experiences that will get them ready for preschool.
X-ALT-DESC;FMTTYPE=text/html:<span style="font-family:comic sans ms\;">This will be a good opportunity for you and your child to socialize\, have some fun and join in a variety of activities. </span>\n\n<ul>\n	<li><span style="font-family:comic sans ms\;">Each class will have a theme. </span></li>\n	<li><span style="font-family:comic sans ms\;">The children can get acquainted with the school environment.</span></li>\n	<li><span style="font-family:comic sans ms\;">The children will be introduced to routine\, following directions\, learning patience and improving listening skills.</span></li>\n	<li><span style="font-family:comic sans ms\;">We will have story times with corresponding craft activities.</span></li>\n	<li><span style="font-family:comic sans ms\;">There will be time for music\, songs\, movement and free play.</span></li>\n</ul>\n<span style="font-family:comic sans ms\;">Saint Bede School&rsquo\;s Parent and Tot Program is a great way to introduce our little ones to many experiences that will get them ready for preschool.&nbsp\; </span><br />\n&nbsp\;
LOCATION:St Bede School 36399 N Wilson Rd\, Ingleside\, IL 60041
UID:e.2066.3241
SEQUENCE:3
DTSTAMP:20260424T144200Z
URL:https://dev.chainolakeschamber.com/events/details/saint-bede-school-parent-and-tot-program-03-16-2020-3241
END:VEVENT

END:VCALENDAR
