BEGIN:VCALENDAR
VERSION:2.0
PRODID:-//ChamberMaster//Event Calendar 2.0//EN
METHOD:PUBLISH
X-PUBLISHED-TTL:P3D
REFRESH-INTERVAL:P3D
CALSCALE:GREGORIAN
BEGIN:VEVENT
DTSTART:20180704T113000Z
DTEND:20180704T170000Z
X-MICROSOFT-CDO-ALLDAYEVENT:FALSE
SUMMARY:Run for Freedom 2018
DESCRIPTION:Please join us for the 24th Annual Antioch Run For Freedom on Wednesday\, July 4\, 2018. This well received walk/run has become a holiday tradition in Antioch attracting 1200+ participants. Both the competitive runner and casual walking family enjoy our challenging USATF Certified course that winds through the beautiful streets of Antioch.
X-ALT-DESC;FMTTYPE=text/html:<span style="font-size:10px\;"><span style="color: rgb(85\, 85\, 85)\;"><span style="font-family: verdana\, sans-serif\;">Please join us for the 24th Annual Antioch Run For Freedom on Wednesday\, July 4\, 2018. This well received walk/run has become a holiday tradition in Antioch attracting 1200+ participants. Both the competitive runner and casual walking family enjoy our challenging USATF Certified course that winds through the beautiful streets of Antioch.</span></span></span><br />\n&nbsp\;
LOCATION:Race Location Antioch\, Illinois Antioch Scout House\, 770 Cunningham Drive (Corner of Cunningham and Poplar Avenues. One block west of Hwy 83/Main Street).
UID:e.2066.1059
SEQUENCE:3
DTSTAMP:20260425T204002Z
URL:https://dev.chainolakeschamber.com/events/details/run-for-freedom-2018-1059
END:VEVENT

END:VCALENDAR
