BEGIN:VCALENDAR
VERSION:2.0
PRODID:-//ChamberMaster//Event Calendar 2.0//EN
METHOD:PUBLISH
X-PUBLISHED-TTL:P3D
REFRESH-INTERVAL:P3D
CALSCALE:GREGORIAN
BEGIN:VEVENT
DTSTART:20210621T140000Z
DTEND:20210625T170000Z
X-MICROSOFT-CDO-ALLDAYEVENT:FALSE
SUMMARY:Rocky Railway VBS - River Ridge Church
DESCRIPTION:ALL Aboard! We are excited for your children to join us for Rocky Mountain Railway VBS! Your kids will have an unforgettable week as we sing memorable songs\, hear amazing Bible stories\, and learn about Jesus' power and how we can trust him whether we are in the valley or on the mountaintop!.\n\n\n\nEmail: info@riverridgewi.com\n\nPhone: (262) 612-3783
X-ALT-DESC;FMTTYPE=text/html:ALL Aboard! We are excited for your children to join us for Rocky Mountain Railway VBS! Your kids will have an unforgettable week as we sing memorable songs\, hear amazing Bible stories\, and learn about Jesus&rsquo\; power and how we can trust him whether we are in the valley or on the mountaintop!.<br />\n<br />\n<b>Email:</b> info@riverridgewi.com<br />\n<b>Phone:</b> (262) 612-3783<br />\n&nbsp\;
LOCATION:
UID:e.2066.4046
SEQUENCE:3
DTSTAMP:20260423T130036Z
URL:https://dev.chainolakeschamber.com/events/details/rocky-railway-vbs-river-ridge-church-4046
END:VEVENT

END:VCALENDAR
