BEGIN:VCALENDAR
VERSION:2.0
PRODID:-//ChamberMaster//Event Calendar 2.0//EN
METHOD:PUBLISH
X-PUBLISHED-TTL:P3D
REFRESH-INTERVAL:P3D
CALSCALE:GREGORIAN
BEGIN:VEVENT
DTSTART:20230926T220000Z
DTEND:20230927T000000Z
X-MICROSOFT-CDO-ALLDAYEVENT:FALSE
SUMMARY:Rockin' the Spectrum All Ability Club House Multi-Chamber Grand Opening!
DESCRIPTION:Rockin' the Spectrum Presents: The Grand Opening of The Clubhouse with a Multi-Chamber Ribbon Cutting and Mixer!\n\nAll abilities welcome!\n\nOpen play\, birthday parties\, private playdates\, special events\, parent classes\, field trips\, support groups\, respite care\, drop off care\, life and social skills\, summer camp and day program for 18 and older.
X-ALT-DESC;FMTTYPE=text/html:Rockin&#39\; the Spectrum Presents: The Grand Opening of The Clubhouse with a Multi-Chamber Ribbon Cutting and Mixer!<br />\nAll abilities welcome!<br />\nOpen play\, birthday parties\, private playdates\, special events\, parent classes\, field trips\, support groups\, respite care\, drop off care\, life and social skills\, summer camp and day program for 18 and older.<br />\n&nbsp\;
LOCATION:The Clubhouse 2020 Rt 12\, Suite Q Spring Grove\, IL 60081
UID:e.2066.5413
SEQUENCE:3
DTSTAMP:20260419T155801Z
URL:https://dev.chainolakeschamber.com/events/details/rockin-the-spectrum-all-ability-club-house-multi-chamber-grand-opening-5413
END:VEVENT

END:VCALENDAR
