BEGIN:VCALENDAR
VERSION:2.0
PRODID:-//ChamberMaster//Event Calendar 2.0//EN
METHOD:PUBLISH
X-PUBLISHED-TTL:P3D
REFRESH-INTERVAL:P3D
CALSCALE:GREGORIAN
BEGIN:VEVENT
DTSTART:20230601T230000Z
DTEND:20230602T003000Z
X-MICROSOFT-CDO-ALLDAYEVENT:FALSE
SUMMARY:RLAPD - BIGFOOT Scavenger Hunt
DESCRIPTION:Round Lake Area Park District is hosting the Bigfoot Scavenger Hunt!\n\nBigfoot has been sighted near Hart's Woods! Come hunt for clues and maybe even get a glimpse of this urban legend!
X-ALT-DESC;FMTTYPE=text/html:Round Lake Area Park District is hosting the Bigfoot Scavenger Hunt!<br />\nBigfoot has been sighted near Hart&#39\;s Woods! Come hunt for clues and maybe even get a glimpse of this urban legend!
LOCATION:Prairie Grass Nature Museum
UID:e.2066.5229
SEQUENCE:3
DTSTAMP:20260419T155047Z
URL:https://dev.chainolakeschamber.com/events/details/rlapd-bigfoot-scavenger-hunt-5229
END:VEVENT

END:VCALENDAR
