BEGIN:VCALENDAR
VERSION:2.0
PRODID:-//ChamberMaster//Event Calendar 2.0//EN
METHOD:PUBLISH
X-PUBLISHED-TTL:P3D
REFRESH-INTERVAL:P3D
CALSCALE:GREGORIAN
BEGIN:VEVENT
DTSTART:20221009T153000Z
DTEND:20221009T180000Z
X-MICROSOFT-CDO-ALLDAYEVENT:FALSE
SUMMARY:River Ridge Church Outdoor Service
DESCRIPTION:We are having an outdoor service to celebrate the end of summer and the arrival of fall. We'll have a great time with worship\, fellowship\, good food\, and our annual Corn Hole tournament. Dress casually and come and enjoy God's beautiful creation.
X-ALT-DESC;FMTTYPE=text/html:<p>We are having an outdoor service to celebrate the end of summer and the arrival of fall. We&#39\;ll have a great time with worship\, fellowship\, good food\, and our annual Corn Hole tournament. Dress casually and come and enjoy God&#39\;s beautiful creation.</p>\n
LOCATION:Horse Fair Park 8105 Blivin St\, Spring Grove\, IL 60081
UID:e.2066.4602
SEQUENCE:3
DTSTAMP:20260422T105645Z
URL:https://dev.chainolakeschamber.com/events/details/river-ridge-church-outdoor-service-4602
END:VEVENT

END:VCALENDAR
