BEGIN:VCALENDAR
VERSION:2.0
PRODID:-//ChamberMaster//Event Calendar 2.0//EN
METHOD:PUBLISH
X-PUBLISHED-TTL:P3D
REFRESH-INTERVAL:P3D
CALSCALE:GREGORIAN
BEGIN:VEVENT
DTSTART:20210926T143000Z
DTEND:20210926T190000Z
X-MICROSOFT-CDO-ALLDAYEVENT:FALSE
SUMMARY:River Ridge Church Grand Opening - Mike Singletary Guest Speaker
DESCRIPTION:On Sunday\, September 26\, 2021\, you are invited to our Grand Opening at River Ridge Church! Our special guest speaker will be Mike Singletary\, a former all-pro middle linebacker\, and Hall of Famer with the Chicago Bears. Services at 9:30 am and 11 am.\n\n\n\nDuring the services\, River Ridge Kids will be having special visiting stations on Heroes of the Bible! Please feel free to stay for both services and attend one of them with your children! It will be loads of fun for kids while they go station to station to learn about 6 Heroes of the Bible! \n\n\n\nAt 12:30 pm we will have a PICNIC CELEBRATION where you are invited to be our guests for burgers\, hot dogs\, brats\, drinks\, chips\, and cookies! There will also be a drawing for an autographed football signed by Mike!                                                                           \n\n\n\nFor more information\, please contact rick@riverridgewi.com or visit our website at RiverRidge.online
X-ALT-DESC;FMTTYPE=text/html:<span style="color:#2c3e8b"><span style="font-family:times new roman\,serif"><span style="font-size:11pt">On Sunday\, September 26\, 2021\, you are invited to our Grand Opening at River Ridge Church! Our special guest&nbsp\;speaker will be&nbsp\;<strong>Mike Singletary</strong>\, a former all-pro middle linebacker\, and Hall of Famer with the Chicago Bears.&nbsp\;Services at 9:30 am and 11 am.</span></span></span><br />\n<br />\n<span style="color:#2c3e8b"><span style="font-family:times new roman\,serif"><span style="font-size:11pt">During the services\, River Ridge Kids will be having special visiting stations on&nbsp\;</span></span></span><strong><em><span style="color:#2c3e8b"><span style="font-family:times new roman\,serif"><span style="font-size:11pt">Heroes of the Bible</span></span></span></em></strong><span style="color:#2c3e8b"><span style="font-family:times new roman\,serif"><span style="font-size:11pt">! Please feel free to stay for both services and attend one of them with your children! It will be loads of fun for kids while they go station to station to learn about 6&nbsp\;<em>Heroes of the Bible</em>!&nbsp\;</span></span></span><br />\n<br />\n<span style="color:#2c3e8b"><span style="font-family:times new roman\,serif"><span style="font-size:11pt">At 12:30 pm we will have a&nbsp\;<strong>PICNIC CELEBRATION&nbsp\;</strong>where you are invited to be our guests&nbsp\;for burgers\, hot dogs\, brats\, drinks\, chips\, and cookies! There will also be a drawing for an autographed football signed by Mike!&nbsp\;&nbsp\;&nbsp\;&nbsp\;&nbsp\;&nbsp\;&nbsp\;&nbsp\;&nbsp\;&nbsp\;&nbsp\;&nbsp\;&nbsp\;&nbsp\;&nbsp\;&nbsp\;&nbsp\;&nbsp\;&nbsp\;&nbsp\;&nbsp\;&nbsp\;&nbsp\;&nbsp\;&nbsp\;&nbsp\;&nbsp\;&nbsp\;&nbsp\;&nbsp\;&nbsp\;&nbsp\;&nbsp\;&nbsp\;&nbsp\;&nbsp\;&nbsp\;&nbsp\;&nbsp\;&nbsp\;&nbsp\;&nbsp\;&nbsp\;&nbsp\;&nbsp\;&nbsp\;&nbsp\;&nbsp\;&nbsp\;&nbsp\;&nbsp\;&nbsp\;&nbsp\;&nbsp\;&nbsp\;&nbsp\;&nbsp\;&nbsp\;&nbsp\;&nbsp\;&nbsp\;&nbsp\;&nbsp\;&nbsp\;&nbsp\;&nbsp\;&nbsp\;&nbsp\;&nbsp\;&nbsp\;&nbsp\;&nbsp\;&nbsp\;&nbsp\;&nbsp\;<br />\n<br />\nFor more information\, please contact&nbsp\;<a href="mailto:rick@riverridgewi.com?subject=Grand%20Opening">rick@riverridgewi.com</a> or visit our website at <a href="https://www.riverridge.online">RiverRidge.online</a></span></span></span>
LOCATION:River Ridge Church 7664 Wilmot Road Spring Grove\, IL 60081
UID:e.2066.4127
SEQUENCE:3
DTSTAMP:20260423T083752Z
URL:https://dev.chainolakeschamber.com/events/details/river-ridge-church-grand-opening-mike-singletary-guest-speaker-4127
END:VEVENT

END:VCALENDAR
