BEGIN:VCALENDAR
VERSION:2.0
PRODID:-//ChamberMaster//Event Calendar 2.0//EN
METHOD:PUBLISH
X-PUBLISHED-TTL:P3D
REFRESH-INTERVAL:P3D
CALSCALE:GREGORIAN
BEGIN:VEVENT
DTSTART:20180922T170000Z
DTEND:20180922T210000Z
X-MICROSOFT-CDO-ALLDAYEVENT:FALSE
SUMMARY:Richmond Wine Walk
DESCRIPTION:Explore the scenic and historical charm of downtown Richmond while stopping at featured business locations to indulge your palette among the fabulous wines paired with light bites. Check in will be at the gazebo on Broadway and Main St right in the heart of downtown Richmond starting at noon.
X-ALT-DESC;FMTTYPE=text/html:Explore the scenic and historical charm of downtown Richmond while stopping at featured business locations to indulge your palette among the fabulous wines paired with light bites. Check in will be at the gazebo on Broadway and Main St right in the heart of downtown Richmond starting at noon.
LOCATION:Check in at the gazebo on the North East corner of Route 12 and Broadway Downtown Richmond IL.
UID:e.2066.934
SEQUENCE:3
DTSTAMP:20260425T180619Z
URL:https://dev.chainolakeschamber.com/events/details/richmond-wine-walk-934
END:VEVENT

END:VCALENDAR
