BEGIN:VCALENDAR
VERSION:2.0
PRODID:-//ChamberMaster//Event Calendar 2.0//EN
METHOD:PUBLISH
X-PUBLISHED-TTL:P3D
REFRESH-INTERVAL:P3D
CALSCALE:GREGORIAN
BEGIN:VEVENT
DTSTART:20230317T210000Z
DTEND:20230318T020000Z
X-MICROSOFT-CDO-ALLDAYEVENT:FALSE
SUMMARY:Richmond's St. Patrick's Day Celebration!
DESCRIPTION:FREE ADMISSION\n\nLocal Vendor Market\n\nLive Irish Music and Dancers\n\nKids Crafts\n\nOpen Air Photobooth\n\nTwo Gift Basket Drawings (Valued at $100 each)\n\nRoaming Leprechaun\n\nCash Bar\n\nFood\n\nColleen Gallagher's Award Winning Irish Soda Bread
X-ALT-DESC;FMTTYPE=text/html:FREE ADMISSION<br />\nLocal Vendor Market<br />\nLive Irish Music and Dancers<br />\nKids Crafts<br />\nOpen Air Photobooth<br />\nTwo Gift Basket Drawings (Valued at $100 each)<br />\nRoaming Leprechaun<br />\nCash Bar<br />\nFood<br />\nColleen Gallagher&#39\;s Award Winning Irish Soda Bread
LOCATION:The District at Memorial Hall 10308 N. Main Street Richmond IL 60071
UID:e.2066.4999
SEQUENCE:3
DTSTAMP:20260419T203355Z
URL:https://dev.chainolakeschamber.com/events/details/richmond-s-st-patrick-s-day-celebration-4999
END:VEVENT

END:VCALENDAR
