BEGIN:VCALENDAR
VERSION:2.0
PRODID:-//ChamberMaster//Event Calendar 2.0//EN
METHOD:PUBLISH
X-PUBLISHED-TTL:P3D
REFRESH-INTERVAL:P3D
CALSCALE:GREGORIAN
BEGIN:VEVENT
DTSTART:20221203T150000Z
DTEND:20221203T200000Z
X-MICROSOFT-CDO-ALLDAYEVENT:FALSE
SUMMARY:Richmond's Christmas of Yesteryear
DESCRIPTION:9:00 AM - 2:00 PM: St. Joseph's Famous Cookie Walk\n\n10:00 AM - 2:00 PM: Visit with Santa and receive a Christmas stocking filled with goodies! Santa's Elves will be offering a Christmas craft sponsored by Nippersink Public Library and face painting!\n\n10:00 AM - 2:00 PM: Joe & Dough Food Truck will have their delicious hot cocoa\, coffee and donuts for purchase.\n\n\n\nFri\, Sat and Sun 11:00am - 5:00pm\n\nDoyle's Pub is hosting a Giving Tree to benefit PADS and is also a Toys for Tots Drop Off location!
X-ALT-DESC;FMTTYPE=text/html:9:00 AM - 2:00 PM: St. Joseph&#39\;s Famous Cookie Walk<br />\n10:00 AM - 2:00 PM: Visit with Santa and receive a Christmas stocking filled with goodies! Santa&#39\;s Elves will be offering a Christmas craft sponsored by Nippersink Public Library and face painting!<br />\n10:00 AM - 2:00 PM: Joe &amp\; Dough Food Truck will have their delicious hot cocoa\, coffee and donuts for purchase.<br />\n<br />\nFri\, Sat and Sun 11:00am - 5:00pm<br />\nDoyle&#39\;s Pub is hosting a Giving Tree to benefit PADS and is also a Toys for Tots Drop Off location!
LOCATION:The District at Historic Memorial Hall 10308 Main St Richmond
UID:e.2066.4886
SEQUENCE:3
DTSTAMP:20260420T021633Z
URL:https://dev.chainolakeschamber.com/events/details/richmond-s-christmas-of-yesteryear-4886
END:VEVENT

END:VCALENDAR
