BEGIN:VCALENDAR
VERSION:2.0
PRODID:-//ChamberMaster//Event Calendar 2.0//EN
METHOD:PUBLISH
X-PUBLISHED-TTL:P3D
REFRESH-INTERVAL:P3D
CALSCALE:GREGORIAN
BEGIN:VEVENT
DTSTART:20221203T010000Z
DTEND:20221203T020000Z
X-MICROSOFT-CDO-ALLDAYEVENT:FALSE
SUMMARY:Richmond's Christmas of Yesteryear
DESCRIPTION:Carolers from local churches will be singing festive songs followed by a speech from the Village President and Richmond's Official Christmas Tree Lighting!\n\n\n\nFri\, Sat and Sun 11:00am - 5:00pm\n\nDoyle's Pub is hosting a Giving Tree to benefit PADS and is also a Toys for Tots Drop Off location!
X-ALT-DESC;FMTTYPE=text/html:Carolers from local churches will be singing festive songs followed by a speech from the Village President and Richmond&#39\;s Official Christmas Tree Lighting!<br />\n<br />\nFri\, Sat and Sun 11:00am - 5:00pm<br />\nDoyle&#39\;s Pub is hosting a Giving Tree to benefit PADS and is also a Toys for Tots Drop Off location!
LOCATION:Stevens Park Corner of E. Broadway & Route 12 Richmond
UID:e.2066.4885
SEQUENCE:3
DTSTAMP:20260420T021554Z
URL:https://dev.chainolakeschamber.com/events/details/richmond-s-christmas-of-yesteryear-4885
END:VEVENT

END:VCALENDAR
