BEGIN:VCALENDAR
VERSION:2.0
PRODID:-//ChamberMaster//Event Calendar 2.0//EN
METHOD:PUBLISH
X-PUBLISHED-TTL:P3D
REFRESH-INTERVAL:P3D
CALSCALE:GREGORIAN
BEGIN:VEVENT
DTSTART:20221015T180000Z
DTEND:20221015T210000Z
X-MICROSOFT-CDO-ALLDAYEVENT:FALSE
SUMMARY:Richmond Police 4th Annual Trunk or Treat
DESCRIPTION:Join the Richmond Police Department as they host the 4th Annual Trunk or Treat!
X-ALT-DESC;FMTTYPE=text/html:Join the Richmond Police Department as they host the 4th Annual Trunk or Treat!
LOCATION:Richmond Village Hall
UID:e.2066.4642
SEQUENCE:3
DTSTAMP:20260422T121800Z
URL:https://dev.chainolakeschamber.com/events/details/richmond-police-4th-annual-trunk-or-treat-4642
END:VEVENT

END:VCALENDAR
