BEGIN:VCALENDAR
VERSION:2.0
PRODID:-//ChamberMaster//Event Calendar 2.0//EN
METHOD:PUBLISH
X-PUBLISHED-TTL:P3D
REFRESH-INTERVAL:P3D
CALSCALE:GREGORIAN
BEGIN:VEVENT
DTSTART:20221008T180000Z
DTEND:20221008T230000Z
X-MICROSOFT-CDO-ALLDAYEVENT:FALSE
SUMMARY:Richmond Firefighter Assoc 1st Annual Volleyball Tournament
DESCRIPTION:Enter the Richmond Firefighter Association's 1st Annual Volleyball Tournament!\n\nCo-ed\, non-competitive JUST FOR FUN\n\nRegistration begins at 12pm on Saturday\n\nCheck-in at 12:30 for pre-registered players (by Oct 4th)\n\n4-6 players\n\nMust be men and women on the team\n\nT-shirts available
X-ALT-DESC;FMTTYPE=text/html:Enter the Richmond Firefighter Association&#39\;s 1st Annual Volleyball Tournament!<br />\nCo-ed\, non-competitive JUST FOR FUN<br />\nRegistration begins at 12pm on Saturday<br />\nCheck-in at 12:30 for pre-registered players (by Oct 4th)<br />\n4-6 players<br />\nMust be men and women on the team<br />\nT-shirts available
LOCATION:Herners Hideaway 202 Williams Rd Genoa City\, WI
UID:e.2066.4629
SEQUENCE:3
DTSTAMP:20260422T111901Z
URL:https://dev.chainolakeschamber.com/events/details/richmond-firefighter-assoc-1st-annual-volleyball-tournament-4629
END:VEVENT

END:VCALENDAR
