BEGIN:VCALENDAR
VERSION:2.0
PRODID:-//ChamberMaster//Event Calendar 2.0//EN
METHOD:PUBLISH
X-PUBLISHED-TTL:P3D
REFRESH-INTERVAL:P3D
CALSCALE:GREGORIAN
BEGIN:VEVENT
DTSTART:20221210T160000Z
DTEND:20221210T220000Z
X-MICROSOFT-CDO-ALLDAYEVENT:FALSE
SUMMARY:Richmond Cocoa Walk
DESCRIPTION:Join the Richmond Business Association and the Chain O'Lakes Chamber for a festive Cocoa Walk in the historic district!\n\nSinging Santa\n\nLive Nativity\n\nFace Painting\n\nand so much more!
X-ALT-DESC;FMTTYPE=text/html:Join the Richmond Business Association and the Chain O&#39\;Lakes Chamber for a festive Cocoa Walk in the historic district!<br />\nSinging Santa<br />\nLive Nativity<br />\nFace Painting<br />\nand so much more!
LOCATION:Downtown Richmond
UID:e.2066.4882
SEQUENCE:3
DTSTAMP:20260420T021340Z
URL:https://dev.chainolakeschamber.com/events/details/richmond-cocoa-walk-4882
END:VEVENT

END:VCALENDAR
