BEGIN:VCALENDAR
VERSION:2.0
PRODID:-//ChamberMaster//Event Calendar 2.0//EN
METHOD:PUBLISH
X-PUBLISHED-TTL:P3D
REFRESH-INTERVAL:P3D
CALSCALE:GREGORIAN
BEGIN:VEVENT
DTSTART:20220916T130000Z
DTEND:20220918T220000Z
X-MICROSOFT-CDO-ALLDAYEVENT:FALSE
SUMMARY:Richmond 150 – Sesquicentennial Celebration
DESCRIPTION:FRIDAY\, SEPTEMBER 16TH W.A. MCCONNELL FOUNDATION - MCCONNELL BALL (10308 MAIN ST) - 7PM-10PM The W.A. McConnell Foundation is a non-profit 501(c)(3) organization dedicated to preserving the treasured history of the greater Richmond area in Illinois\, the legacy of its founders\, and the revitalization of its historic downtown for the benefit of generations to come. A grand evening dedicated to past elegance and civic pride. Enjoy an evening of live music\, delicious delicacies\, and tantalizing libations. Dance the night away
X-ALT-DESC;FMTTYPE=text/html:<span style="color: rgb(10\, 10\, 10)\; font-family: Assistant\, Arial\, sans-serif\; font-size: 16px\; background-color: rgb(242\, 242\, 242)\;">FRIDAY\, SEPTEMBER 16TH W.A. MCCONNELL FOUNDATION - MCCONNELL BALL (10308 MAIN ST) - 7PM-10PM The W.A. McConnell Foundation is a non-profit 501(c)(3) organization dedicated to preserving the treasured history of the greater Richmond area in Illinois\, the legacy of its founders\, and the revitalization of its historic downtown for the benefit of generations to come. A grand evening dedicated to past elegance and civic pride. Enjoy an evening of live music\, delicious delicacies\, and tantalizing libations. Dance the night away&hellip\;</span>
LOCATION:Historic District
UID:e.2066.4593
SEQUENCE:3
DTSTAMP:20260422T121225Z
URL:https://dev.chainolakeschamber.com/events/details/richmond-150-sesquicentennial-celebration-4593
END:VEVENT

END:VCALENDAR
