BEGIN:VCALENDAR
VERSION:2.0
PRODID:-//ChamberMaster//Event Calendar 2.0//EN
METHOD:PUBLISH
X-PUBLISHED-TTL:P3D
REFRESH-INTERVAL:P3D
CALSCALE:GREGORIAN
BEGIN:VEVENT
DTSTART:20211021T213000Z
DTEND:20211022T000000Z
X-MICROSOFT-CDO-ALLDAYEVENT:FALSE
SUMMARY:Ribbon Cutting & Chili Cook Off
DESCRIPTION:Celebrate the new name - Chain O'Lakes Area Chamber of Commerce! \n\n\n\nBring a crockpot of your homemade chili\, with or without beans (we can discuss this over a bowl)
X-ALT-DESC;FMTTYPE=text/html:Celebrate the new name - Chain O&#39\;Lakes Area Chamber of Commerce!&nbsp\;<br />\n<br />\nBring a crockpot of your homemade chili\, with or without beans (we can discuss this over a bowl)
LOCATION:10910 N Main St\, Richmond Between Ace Hardware and Associated Bank on Rt 12
UID:e.2066.4155
SEQUENCE:3
DTSTAMP:20260423T065450Z
URL:https://dev.chainolakeschamber.com/events/details/ribbon-cutting-chili-cook-off-4155
END:VEVENT

END:VCALENDAR
