BEGIN:VCALENDAR
VERSION:2.0
PRODID:-//ChamberMaster//Event Calendar 2.0//EN
METHOD:PUBLISH
X-PUBLISHED-TTL:P3D
REFRESH-INTERVAL:P3D
CALSCALE:GREGORIAN
BEGIN:VEVENT
DTSTART:20220901T220000Z
DTEND:20220902T000000Z
X-MICROSOFT-CDO-ALLDAYEVENT:FALSE
SUMMARY:Ribbon Cutting and Book Signing at Capture Your Path Counseling & Coaching
DESCRIPTION:Geri Condon is celebrating 10 years in business! Let's celebrate with a Ribbon Cutting Ceremony and follow up with a book signing! Geri has written "Today is a New Day Tomorrow is Too".
X-ALT-DESC;FMTTYPE=text/html:Geri Condon is celebrating 10 years in business! Let&#39\;s celebrate with a Ribbon Cutting Ceremony and follow up with a book signing! Geri has written &quot\;Today is a New Day Tomorrow is Too&quot\;.&nbsp\;
LOCATION:5415 Business Parkway Ringwood\, IL 60072
UID:e.2066.4568
SEQUENCE:3
DTSTAMP:20260422T135843Z
URL:https://dev.chainolakeschamber.com/events/details/ribbon-cutting-and-book-signing-at-capture-your-path-counseling-coaching-4568
END:VEVENT

END:VCALENDAR
