BEGIN:VCALENDAR
VERSION:2.0
PRODID:-//ChamberMaster//Event Calendar 2.0//EN
METHOD:PUBLISH
X-PUBLISHED-TTL:P3D
REFRESH-INTERVAL:P3D
CALSCALE:GREGORIAN
BEGIN:VEVENT
DTSTART:20230717T220000Z
DTEND:20230717T233000Z
X-MICROSOFT-CDO-ALLDAYEVENT:FALSE
SUMMARY:Retail Roundtable with State Senator Craig Wilcox
DESCRIPTION:This roundtable discussion is intended to provide retailers with a space in which they can discuss their experiences and any concerns they may have about the industry so that I can better represent retail businesses during policy discussions in Springfield.
X-ALT-DESC;FMTTYPE=text/html:<span style="color: rgb(36\, 36\, 36)\; font-family: Calibri\, sans-serif\; font-size: 14.6667px\; background-color: rgb(255\, 255\, 255)\;">This roundtable discussion is intended to provide retailers with a space in which they can discuss their experiences and any concerns they may have about the industry so that I can better represent retail businesses during policy discussions in Springfield.</span>
LOCATION:McHenry Recreational Center 3636 Municipal Drive McHenry IL 60050
UID:e.2066.5263
SEQUENCE:3
DTSTAMP:20260419T153400Z
URL:https://dev.chainolakeschamber.com/events/details/retail-roundtable-with-state-senator-craig-wilcox-5263
END:VEVENT

END:VCALENDAR
