BEGIN:VCALENDAR
VERSION:2.0
PRODID:-//ChamberMaster//Event Calendar 2.0//EN
METHOD:PUBLISH
X-PUBLISHED-TTL:P3D
REFRESH-INTERVAL:P3D
CALSCALE:GREGORIAN
BEGIN:VEVENT
DTSTART:20230304T180000Z
DTEND:20230304T220000Z
X-MICROSOFT-CDO-ALLDAYEVENT:FALSE
SUMMARY:Retail Grand Opening\, Ribbon Cutting and Mixer at Sherwin-Williams
DESCRIPTION:Join us for our Retail Grand Opening\, Ribbon Cutting and Mixer to celebrate our new store in Volo!\n\n\n\n40% off all paint and stain during the event!\n\n30% off all materials during the event!\n\n\n\nFood\, Beverages\, Prizes and a few surprises will add more fun and excitement!
X-ALT-DESC;FMTTYPE=text/html:Join us for our Retail Grand Opening\, Ribbon Cutting and Mixer to celebrate our new store in Volo!<br />\n<br />\n40% off all paint and stain during the event!<br />\n30% off all materials during the event!<br />\n<br />\nFood\, Beverages\, Prizes and a few surprises will add more fun and excitement!<br />\n&nbsp\;
LOCATION:Sherwin-Williams 2800 Hartigan Road Volo IL
UID:e.2066.4991
SEQUENCE:3
DTSTAMP:20260419T203822Z
URL:https://dev.chainolakeschamber.com/events/details/retail-grand-opening-ribbon-cutting-and-mixer-at-sherwin-williams-4991
END:VEVENT

END:VCALENDAR
