BEGIN:VCALENDAR
VERSION:2.0
PRODID:-//ChamberMaster//Event Calendar 2.0//EN
METHOD:PUBLISH
X-PUBLISHED-TTL:P3D
REFRESH-INTERVAL:P3D
CALSCALE:GREGORIAN
BEGIN:VEVENT
DTSTART:20220316T170000Z
DTEND:20220316T173000Z
X-MICROSOFT-CDO-ALLDAYEVENT:FALSE
SUMMARY:Renee Ryan Salon and Spa Ribbon Cutting
DESCRIPTION:
X-ALT-DESC;FMTTYPE=text/html:
LOCATION:
UID:e.2066.4214
SEQUENCE:3
DTSTAMP:20260422T224005Z
URL:https://dev.chainolakeschamber.com/events/details/renee-ryan-salon-and-spa-ribbon-cutting-4214
END:VEVENT

END:VCALENDAR
