BEGIN:VCALENDAR
VERSION:2.0
PRODID:-//ChamberMaster//Event Calendar 2.0//EN
METHOD:PUBLISH
X-PUBLISHED-TTL:P3D
REFRESH-INTERVAL:P3D
CALSCALE:GREGORIAN
BEGIN:VEVENT
DTSTART:20210119T160000Z
DTEND:20210119T173000Z
X-MICROSOFT-CDO-ALLDAYEVENT:FALSE
SUMMARY:Regional Connections Multi-Chamber Networking
DESCRIPTION:Join us for Regional Connections Multi-Chamber Networking Tuesday\, January 19th at 10:00am. This 90 minute\, multi-Chamber\, virtual networking event is designed to help those from around our region get connected in a fun\, easy way! It removes the uncomfortable part of networking and provides participants with a venue to perfect their self-presentation skills and connect with others.\n\nRegional Connections Speed Networking will take place inside Zoom and Zoom Rooms. Rather than tables\, we will have networking rooms and room Captains to ensure exclusive time for each networker. This opportunity to connect and expand your network is limited to current Chamber Members only and only one person per Member business.
X-ALT-DESC;FMTTYPE=text/html:<strong><span style="font-size:12.0pt\;">Join us for Regional Connections Multi-Chamber Networking Tuesday\, January 19th at 10:00am. This 90 minute\, multi-Chamber\, virtual networking event is designed to help those from around our region get connected in a fun\, easy way! It removes the uncomfortable part of networking and provides participants with a venue to perfect their self-presentation skills and connect with others.<br />\nRegional Connections Speed Networking will take place inside Zoom and Zoom Rooms. Rather than tables\, we will have networking rooms and room Captains to ensure exclusive time for each networker. This opportunity to connect and expand your network is limited to current Chamber Members only and only one person per Member business.&nbsp\;&nbsp\;&nbsp\;&nbsp\;&nbsp\;&nbsp\; </span></strong><br />\n<br />\n&nbsp\;
LOCATION:Regional Connections Speed Networking will take place inside Zoom and Zoom Rooms. Rather than tables\, we will have networking rooms and room Captains to ensure exclusive time for each networker. This opportunity to connect and expand your network is limited to current Chamber Members only and only one person per Member business.
UID:e.2066.3422
SEQUENCE:3
DTSTAMP:20260423T223745Z
URL:https://dev.chainolakeschamber.com/events/details/regional-connections-multi-chamber-networking-3422
END:VEVENT

END:VCALENDAR
