BEGIN:VCALENDAR
VERSION:2.0
PRODID:-//ChamberMaster//Event Calendar 2.0//EN
METHOD:PUBLISH
X-PUBLISHED-TTL:P3D
REFRESH-INTERVAL:P3D
CALSCALE:GREGORIAN
BEGIN:VEVENT
DTSTART:20230224T000000Z
DTEND:20230224T003000Z
X-MICROSOFT-CDO-ALLDAYEVENT:FALSE
SUMMARY:Referral Group Meet and Greet
DESCRIPTION:Welcome to our first Referral Group Meeting - but it's more of a meet and greet!\n\n	Meet your group!\n	Learn how a Referral Group works!\n	Lean what counts as a referral?\n	\n		Q and A
X-ALT-DESC;FMTTYPE=text/html:Welcome to our first Referral Group Meeting - but it&#39\;s more of a meet and greet!\n<ul>\n	<li>Meet your group!</li>\n	<li>Learn how a Referral Group works!</li>\n	<li>Lean what counts as a referral?\n	<ul>\n		<li>Q and A&nbsp\;&nbsp\;&nbsp\;&nbsp\;&nbsp\;&nbsp\;&nbsp\;&nbsp\;</li>\n	</ul>\n	</li>\n</ul>\n
LOCATION:Stellar Results Realty 9 E. Grand Avenue Fox Lake IL 60020
UID:e.2066.4972
SEQUENCE:3
DTSTAMP:20260419T223021Z
URL:https://dev.chainolakeschamber.com/events/details/referral-group-meet-and-greet-4972
END:VEVENT

END:VCALENDAR
