BEGIN:VCALENDAR
VERSION:2.0
PRODID:-//ChamberMaster//Event Calendar 2.0//EN
METHOD:PUBLISH
X-PUBLISHED-TTL:P3D
REFRESH-INTERVAL:P3D
CALSCALE:GREGORIAN
BEGIN:VEVENT
DTSTART:20230410T210000Z
DTEND:20230410T220000Z
X-MICROSOFT-CDO-ALLDAYEVENT:FALSE
SUMMARY:Referral Group #1 (Name TBD) Meeting
DESCRIPTION:Referral Group #1 Meeting\n\n\n\nThis group will meet the 2nd and 4th Monday of each month.
X-ALT-DESC;FMTTYPE=text/html:Referral Group #1 Meeting<br />\n<br />\nThis group will meet the 2nd and 4th Monday of each month.
LOCATION:Stellar Results Realty 9 E. Grand Ave Fox Lake
UID:e.2066.5053
SEQUENCE:3
DTSTAMP:20260419T205428Z
URL:https://dev.chainolakeschamber.com/events/details/referral-group-1-name-tbd-meeting-04-10-2023-5053
END:VEVENT

END:VCALENDAR
