BEGIN:VCALENDAR
VERSION:2.0
PRODID:-//ChamberMaster//Event Calendar 2.0//EN
METHOD:PUBLISH
X-PUBLISHED-TTL:P3D
REFRESH-INTERVAL:P3D
CALSCALE:GREGORIAN
BEGIN:VEVENT
DTSTART:20230313T210000Z
DTEND:20230313T220000Z
X-MICROSOFT-CDO-ALLDAYEVENT:FALSE
SUMMARY:Referral Group #1 (Name TBD) First Official Meeting
DESCRIPTION:Referral Group #1 Meeting\n\n\n\nThis group will meet the 2nd and 4th Monday of each month.
X-ALT-DESC;FMTTYPE=text/html:Referral Group #1 Meeting<br />\n<br />\nThis group will meet the 2nd and 4th Monday of each month.
LOCATION:Stellar Results Realty 9 E. Grand Ave Fox Lake
UID:e.2066.5003
SEQUENCE:3
DTSTAMP:20260419T203553Z
URL:https://dev.chainolakeschamber.com/events/details/referral-group-1-name-tbd-first-official-meeting-5003
END:VEVENT

END:VCALENDAR
