BEGIN:VCALENDAR
VERSION:2.0
PRODID:-//ChamberMaster//Event Calendar 2.0//EN
METHOD:PUBLISH
X-PUBLISHED-TTL:P3D
REFRESH-INTERVAL:P3D
CALSCALE:GREGORIAN
BEGIN:VEVENT
DTSTART:20190908T223000Z
DTEND:20190909T000000Z
X-MICROSOFT-CDO-ALLDAYEVENT:FALSE
SUMMARY:Redemption Hill Grand Opening and Dedication Celebration
DESCRIPTION:Pastor Bill Legge
X-ALT-DESC;FMTTYPE=text/html:<br />\n<span style="font-size:22px\;">Pastor Bill Legge</span>
LOCATION:Redemption Hill Church 25 Forest Ave Fox Lake IL
UID:e.2066.3125
SEQUENCE:3
DTSTAMP:20260424T233511Z
URL:https://dev.chainolakeschamber.com/events/details/redemption-hill-grand-opening-and-dedication-celebration-3125
END:VEVENT

END:VCALENDAR
