BEGIN:VCALENDAR
VERSION:2.0
PRODID:-//ChamberMaster//Event Calendar 2.0//EN
METHOD:PUBLISH
X-PUBLISHED-TTL:P3D
REFRESH-INTERVAL:P3D
CALSCALE:GREGORIAN
BEGIN:VEVENT
DTSTART:20190908T141500Z
DTEND:20190908T153000Z
X-MICROSOFT-CDO-ALLDAYEVENT:FALSE
SUMMARY:Redemption Hill Grand Opening and Dedication Celebration
DESCRIPTION:Bishop Tim Cushman
X-ALT-DESC;FMTTYPE=text/html:<br />\nBishop Tim Cushman
LOCATION:Redemption Hill Church 25 Forest Ave Fox Lake IL
UID:e.2066.3124
SEQUENCE:3
DTSTAMP:20260424T233435Z
URL:https://dev.chainolakeschamber.com/events/details/redemption-hill-grand-opening-and-dedication-celebration-3124
END:VEVENT

END:VCALENDAR
