BEGIN:VCALENDAR
VERSION:2.0
PRODID:-//ChamberMaster//Event Calendar 2.0//EN
METHOD:PUBLISH
X-PUBLISHED-TTL:P3D
REFRESH-INTERVAL:P3D
CALSCALE:GREGORIAN
BEGIN:VEVENT
DTSTART:20190907T170000Z
DTEND:20190907T220000Z
X-MICROSOFT-CDO-ALLDAYEVENT:FALSE
SUMMARY:Redemption Hill Grand Opening and Dedication Celebration
DESCRIPTION:FOOD AND FUN!
X-ALT-DESC;FMTTYPE=text/html:<span style="font-size:18px\;">FOOD AND FUN!</span><br />\n&nbsp\;
LOCATION:Redemption Hill Church 25 Forest Ave Fox Lake IL
UID:e.2066.3123
SEQUENCE:3
DTSTAMP:20260424T233436Z
URL:https://dev.chainolakeschamber.com/events/details/redemption-hill-grand-opening-and-dedication-celebration-3123
END:VEVENT

END:VCALENDAR
