BEGIN:VCALENDAR
VERSION:2.0
PRODID:-//ChamberMaster//Event Calendar 2.0//EN
METHOD:PUBLISH
X-PUBLISHED-TTL:P3D
REFRESH-INTERVAL:P3D
CALSCALE:GREGORIAN
BEGIN:VEVENT
DTSTART:20190906T233000Z
DTEND:20190907T010000Z
X-MICROSOFT-CDO-ALLDAYEVENT:FALSE
SUMMARY:Redemption Hill Grand Opening and Dedication Celebration
DESCRIPTION:Comedian Brad Stine
X-ALT-DESC;FMTTYPE=text/html:<br />\n<span style="font-size:22px\;">Comedian Brad Stine</span>
LOCATION:Redemption Hill Church 25 Forest Ave Fox Lake IL
UID:e.2066.3122
SEQUENCE:3
DTSTAMP:20260424T233414Z
URL:https://dev.chainolakeschamber.com/events/details/redemption-hill-grand-opening-and-dedication-celebration-3122
END:VEVENT

END:VCALENDAR
