BEGIN:VCALENDAR
VERSION:2.0
PRODID:-//ChamberMaster//Event Calendar 2.0//EN
METHOD:PUBLISH
X-PUBLISHED-TTL:P3D
REFRESH-INTERVAL:P3D
CALSCALE:GREGORIAN
BEGIN:VEVENT
DTSTART:20230715T160000Z
DTEND:20230715T190000Z
X-MICROSOFT-CDO-ALLDAYEVENT:FALSE
SUMMARY:Ray Chrysler Dodge Jeep Ram BBQ For The Troops
DESCRIPTION:Please consider a donation: https://bit.ly/42HcsYY\n\nFor the 10th consecutive year\, the Chicago Automobile Trade Association (CATA) and its dealer members have partnered with the USO Illinois to host "Barbecue for the Troops" community fundraising events.\n\nOver the past seven years\, CATA dealers have rallied their communities to help raise over $1 Million to support USO Illinois programs and services. Let's make this year bigger and better!\n\nEvery dollar you raise will help your local USO provide services and support for the troops and their families.
X-ALT-DESC;FMTTYPE=text/html:<div class="xdj266r x11i5rnm xat24cr x1mh8g0r x1vvkbs" style="margin: 0px\; overflow-wrap: break-word\; font-family: &quot\;Segoe UI Historic&quot\;\, &quot\;Segoe UI&quot\;\, Helvetica\, Arial\, sans-serif\; color: rgb(5\, 5\, 5)\; font-size: 15px\; background-color: rgb(255\, 255\, 255)\;">Please consider a donation:&nbsp\;<a class="x1i10hfl xjbqb8w x6umtig x1b1mbwd xaqea5y xav7gou x9f619 x1ypdohk xt0psk2 xe8uvvx xdj266r x11i5rnm xat24cr x1mh8g0r xexx8yu x4uap5 x18d9i69 xkhd6sd x16tdsg8 x1hl2dhg xggy1nq x1a2a7pz xt0b8zv x1fey0fg" href="https://l.facebook.com/l.php?u=https%3A%2F%2Fbit.ly%2F42HcsYY%3Ffbclid%3DIwAR1n2oj2_ePXGVkprkkJxdmxyJRX4RHfPn0QahhIMUOXe-vA_18lZ5KGT44&amp\;h=AT1SNYQfcRTxdy73-n4gSZwtd3OPX5turFZ6m5thc-u9CxERuwvfet1nffAMOo2UslwjpGGVwgRRpd8ACla6hhXWVZ86fh9XNDo1ROF3UgGerYXchSlO2VVIf7ZIz9XKK-PhNuUGSMA7VZVK6aAy&amp\;__tn__=q&amp\;c[0]=AT3Oi1e3m0cz_AxOdPocon0MuSH0T84MRcsgykA1Ob_yxB2FiSk4QyZ8TLR9QzbB4ugDv3OJ2jzdgn_N_xUN8KprXyHnu7Puk2n6K30Pc9soNyVB2-nhINlHQOqDVrboqHt4ZLkA-r0KLXlnzZukRwgStABz" rel="nofollow noreferrer" role="link" style="cursor: pointer\; text-decoration-line: none\; border-width: 0px\; border-style: initial\; border-color: initial\; outline: none\; list-style: none\; margin: 0px\; text-align: inherit\; padding: 0px\; -webkit-tap-highlight-color: transparent\; box-sizing: border-box\; touch-action: manipulation\; background-color: transparent\; display: inline\; font-family: inherit\;" tabindex="0" target="_blank">https://bit.ly/42HcsYY</a></div>\n\n<div class="x11i5rnm xat24cr x1mh8g0r x1vvkbs xtlvy1s" style="margin: 0.5em 0px 0px\; overflow-wrap: break-word\; font-family: &quot\;Segoe UI Historic&quot\;\, &quot\;Segoe UI&quot\;\, Helvetica\, Arial\, sans-serif\; color: rgb(5\, 5\, 5)\; font-size: 15px\; background-color: rgb(255\, 255\, 255)\;">For the 10th consecutive year\, the Chicago Automobile Trade Association (CATA) and its dealer members have partnered with the USO Illinois to host &ldquo\;Barbecue for the Troops&rdquo\; community fundraising events.<br />\nOver the past seven years\, CATA dealers have rallied their communities to help raise over $1 Million to support USO Illinois programs and services. Let&rsquo\;s make this year bigger and better!<br />\nEvery dollar you raise will help your local USO provide services and support for the troops and their families.</div>\n
LOCATION:Ray Chrysler Dodge Jeep Ram 23 N. US Highway 12 Fox Lake IL
UID:e.2066.5266
SEQUENCE:3
DTSTAMP:20260419T153504Z
URL:https://dev.chainolakeschamber.com/events/details/ray-chrysler-dodge-jeep-ram-bbq-for-the-troops-5266
END:VEVENT

END:VCALENDAR
