BEGIN:VCALENDAR
VERSION:2.0
PRODID:-//ChamberMaster//Event Calendar 2.0//EN
METHOD:PUBLISH
X-PUBLISHED-TTL:P3D
REFRESH-INTERVAL:P3D
CALSCALE:GREGORIAN
BEGIN:VEVENT
DTSTART:20190622T160000Z
DTEND:20190622T200000Z
X-MICROSOFT-CDO-ALLDAYEVENT:FALSE
SUMMARY:Ray Auto Group Pet Adoption Event
DESCRIPTION:Ray Auto Group and Wagging Hearts Rescue\n\n\n\nHelp a pet find their forever home
X-ALT-DESC;FMTTYPE=text/html:<span style="font-size:18px\;"><span style="font-family:verdana\;"><strong>Ray Auto Group and Wagging Hearts Rescue<br />\n<br />\n<span style="font-size:14px\;">Help a pet find their forever home</span></strong></span></span>
LOCATION:Ray Auto Group 23 N. ROUTE 12 FOX LAKE IL
UID:e.2066.2959
SEQUENCE:3
DTSTAMP:20260425T040005Z
URL:https://dev.chainolakeschamber.com/events/details/ray-auto-group-pet-adoption-event-2959
END:VEVENT

END:VCALENDAR
