BEGIN:VCALENDAR
VERSION:2.0
PRODID:-//ChamberMaster//Event Calendar 2.0//EN
METHOD:PUBLISH
X-PUBLISHED-TTL:P3D
REFRESH-INTERVAL:P3D
CALSCALE:GREGORIAN
BEGIN:VEVENT
DTSTART:20220907T130000Z
DTEND:20220908T230000Z
X-MICROSOFT-CDO-ALLDAYEVENT:FALSE
SUMMARY:Ray Auto Group Open House and Job Fair
DESCRIPTION:We're adding to our team and hiring in all departments!\n\nStop by to see all the openings and jump-start your career!
X-ALT-DESC;FMTTYPE=text/html:We&#39\;re adding to our team and hiring in all departments!<br />\nStop by to see all the openings and jump-start your career!
LOCATION:Ray Auto Group 39 US-12\, Fox Lake IL
UID:e.2066.4603
SEQUENCE:3
DTSTAMP:20260422T121501Z
URL:https://dev.chainolakeschamber.com/events/details/ray-auto-group-open-house-and-job-fair-4603
END:VEVENT

END:VCALENDAR
